BEGIN:VCALENDAR
VERSION:2.0
PRODID:-//Bohusläns ornitologiska förening - ECPv6.15.17.1//NONSGML v1.0//EN
CALSCALE:GREGORIAN
METHOD:PUBLISH
X-WR-CALNAME:Bohusläns ornitologiska förening
X-ORIGINAL-URL:https://bohof.com
X-WR-CALDESC:Händelser för Bohusläns ornitologiska förening
REFRESH-INTERVAL;VALUE=DURATION:PT1H
X-Robots-Tag:noindex
X-PUBLISHED-TTL:PT1H
BEGIN:VTIMEZONE
TZID:Europe/Stockholm
BEGIN:DAYLIGHT
TZOFFSETFROM:+0100
TZOFFSETTO:+0200
TZNAME:CEST
DTSTART:20250330T010000
END:DAYLIGHT
BEGIN:STANDARD
TZOFFSETFROM:+0200
TZOFFSETTO:+0100
TZNAME:CET
DTSTART:20251026T010000
END:STANDARD
BEGIN:DAYLIGHT
TZOFFSETFROM:+0100
TZOFFSETTO:+0200
TZNAME:CEST
DTSTART:20260329T010000
END:DAYLIGHT
BEGIN:STANDARD
TZOFFSETFROM:+0200
TZOFFSETTO:+0100
TZNAME:CET
DTSTART:20261025T010000
END:STANDARD
BEGIN:DAYLIGHT
TZOFFSETFROM:+0100
TZOFFSETTO:+0200
TZNAME:CEST
DTSTART:20270328T010000
END:DAYLIGHT
BEGIN:STANDARD
TZOFFSETFROM:+0200
TZOFFSETTO:+0100
TZNAME:CET
DTSTART:20271031T010000
END:STANDARD
END:VTIMEZONE
BEGIN:VEVENT
DTSTART;TZID=Europe/Stockholm:20260207T100000
DTEND;TZID=Europe/Stockholm:20260207T140000
DTSTAMP:20260423T105153
CREATED:20251217T213005Z
LAST-MODIFIED:20260105T191358Z
UID:4258785861-1770458400-1770472800@bohof.com
SUMMARY:SPELFLYKTSINVENTERING AV ÖRN
DESCRIPTION:Förutom denna lördag så kan alla hjälpa till att under veckan före och efter leta efter örn i norra Bohuslän samt i Dalsland. \n  \nDet går att spana ett par timmar eller under flera dagar. Meddela Håkan vart ni spanar för det kan vara flera ute samma dag och tid för samarbete. Ni kan också bli tilldelade ett område om ni inte vet vart ni ska. Efteråt lämnas en liten rapport om resultatet. \n  \nUnder lördagen letar vi upp några höga höjder i norra Bohuslän där vi har god sikt ifrån och spanar efter örnar. \nIngen förkunskap krävs\, utan bara viljan att leta upp ”stora” fåglar och så hjälps vi åt att artbestämma dem. \n  \nBlir vi många personer delar vi upp oss till flera höjder och har telefonkontakt oss emellan. \n  \nTa med varma kläder och fika. \n  \nSamling: Femstenabergs rastplats. \n  \nAnmälan för lördagen\, senast 6/2: Håkan Elg 070-269 57 25. \n  \nFoton: Sussie Carlström
URL:https://bohof.com/evenemang/spelflyktsinventering-av-orn/
LOCATION:Rastplats Femstenaberg\, V7Q9+GX Folkestad\, Strömstad\, 452 94
CATEGORIES:2026
ATTACH;FMTTYPE=image/jpeg:https://cdn.birdlife.se/wp-content/uploads/sites/32/2025/12/7feb_eagle72_sussie_carlstrom-scaled.jpg
END:VEVENT
END:VCALENDAR